BEGIN:VCALENDAR
VERSION:2.0
PRODID:-//wp-events-plugin.com//7.2.3.1//EN
BEGIN:VEVENT
UID:10@barbaramaggiani.ch
DTSTART:20230304T090000Z
DTEND:20230304T170000Z
DTSTAMP:20241204T194020Z
URL:https://barbaramaggiani.ch/events/menopause-troubles-du-sommeil/
SUMMARY:Menopause &amp\; Troubles Du Sommeil
DESCRIPTION:\n\n\nParticipe à l'atelier: Retrouve un sommeil ininterrompu 
 en rééquilibrant les hormones d'une façon naturelle\n\n\n\n\n\n(Click o
 n the photo to enlarge)\n\n\n
ATTACH;FMTTYPE=image/jpeg:https://barbaramaggiani.ch/wp-content/uploads/20
 23/01/Menopause-and-Trouble-Du-Sommeil.jpg
CATEGORIES:Workshops
END:VEVENT
END:VCALENDAR