BEGIN:VCALENDAR
VERSION:2.0
PRODID:-//wp-events-plugin.com//7.2.3.1//EN
BEGIN:VEVENT
UID:9@barbaramaggiani.ch
DTSTART:20230513T090000Z
DTEND:20230513T170000Z
DTSTAMP:20241204T194020Z
URL:https://barbaramaggiani.ch/events/evenement-a-venir-atelier-hormonal-e
 t-bien-etre/
SUMMARY:Événement à venir: Atelier hormonal et bien-être
DESCRIPTION:\n\n\nYoga Hormonal\, Acupressure\, Alimentation et Gestion du 
 Stress pour rééquilibrer les hormones d’une façon naturelle\n\n\n\n\n
 \n\n\n\n
ATTACH;FMTTYPE=image/jpeg:https://barbaramaggiani.ch/wp-content/uploads/20
 23/01/ATELIER-HORMONAL-ET-BIEN-ETRE.jpg
CATEGORIES:Workshops
END:VEVENT
END:VCALENDAR